BEGIN:VCALENDAR
VERSION:2.0
PRODID:-//Your Organization//EN
BEGIN:VEVENT
UID:69e73708bacbf@yourdomain.com
DTSTAMP:20260421T083624Z
DTSTART:20260718T140000
DTEND:20260718T220000
SUMMARY:Rum & Reggae 2026 | The Prospect Building\, Bristol
DESCRIPTION:The ultimate island experience returns next Summer!
Bringing you pure reggae sounds with huge headliners & insane production... More info: https://www.skiddle.com/whats-on/Bristol/The-Prospect-Building/Rum--Reggae-2026--The-Prospect-Building-Bristol/41486025/
LOCATION:The Prospect Building\, 45 Feeder Rd
END:VEVENT
END:VCALENDAR